BEGIN:VCALENDAR
VERSION:2.0
PRODID:-//AFGE Org - ECPv6.15.20//NONSGML v1.0//EN
CALSCALE:GREGORIAN
METHOD:PUBLISH
X-WR-CALNAME:AFGE Org
X-ORIGINAL-URL:https://afgelocal1988.com
X-WR-CALDESC:Events for AFGE Org
REFRESH-INTERVAL;VALUE=DURATION:PT1H
X-Robots-Tag:noindex
X-PUBLISHED-TTL:PT1H
BEGIN:VTIMEZONE
TZID:America/New_York
BEGIN:DAYLIGHT
TZOFFSETFROM:-0500
TZOFFSETTO:-0400
TZNAME:EDT
DTSTART:20210314T070000
END:DAYLIGHT
BEGIN:STANDARD
TZOFFSETFROM:-0400
TZOFFSETTO:-0500
TZNAME:EST
DTSTART:20211107T060000
END:STANDARD
BEGIN:DAYLIGHT
TZOFFSETFROM:-0500
TZOFFSETTO:-0400
TZNAME:EDT
DTSTART:20220313T070000
END:DAYLIGHT
BEGIN:STANDARD
TZOFFSETFROM:-0400
TZOFFSETTO:-0500
TZNAME:EST
DTSTART:20221106T060000
END:STANDARD
BEGIN:DAYLIGHT
TZOFFSETFROM:-0500
TZOFFSETTO:-0400
TZNAME:EDT
DTSTART:20230312T070000
END:DAYLIGHT
BEGIN:STANDARD
TZOFFSETFROM:-0400
TZOFFSETTO:-0500
TZNAME:EST
DTSTART:20231105T060000
END:STANDARD
END:VTIMEZONE
BEGIN:VEVENT
DTSTART;VALUE=DATE:20221215
DTEND;VALUE=DATE:20230101
DTSTAMP:20260424T140709
CREATED:20221215T065843Z
LAST-MODIFIED:20241001T101128Z
UID:1593-1671062400-1672531199@afgelocal1988.com
SUMMARY:Photo of the flyer
DESCRIPTION:
URL:https://afgelocal1988.com/event/photo-of-the-flyer/
LOCATION:CA
ATTACH;FMTTYPE=image/png:https://afgelocal1988.com/wp-content/uploads/2022/12/download-1.png
END:VEVENT
BEGIN:VEVENT
DTSTART;TZID=America/New_York:20221212T000000
DTEND;TZID=America/New_York:20221212T050000
DTSTAMP:20260424T140709
CREATED:20221118T143658Z
LAST-MODIFIED:20221118T195808Z
UID:1567-1670803200-1670821200@afgelocal1988.com
SUMMARY:AFGE L-1988 Inquiry discussion
DESCRIPTION:Geddes Scott is inviting you to a scheduled Zoom meeting. \n  \nTopic: AFGE L-1988 Inquiry discussion \nTime:  Dec 12\, 2022 12:00 PM Eastern Time (US and Canada) \n  \nPlease download and import the following iCalendar (.ics) files to your calendar system. \nWeekly: https://us05web.zoom.us/meeting/tZIlfu-orDoqG9B88JQJjtcpyXq65Emv8h3V/ics?icsToken=98tyKuGupjIsGtaUsBiDRpwAGor4M_Tzpn5fjfp_xEfPMgpZdgDmL9pTZOdaHc6I \n  \nJoin Zoom Meeting \nhttps://us05web.zoom.us/j/86896021014?pwd=ZE1QVzIveVk1bDNqU2NLY1lqVXJ5QT09 \n  \nMeeting ID: 868 9602 1014 \nPasscode: 1dj7UE \n 
URL:https://afgelocal1988.com/event/afge-l-1988-inquiry-discussion-4/
LOCATION:ABC\, USA\, NEW YORK\, CA\, United States
CATEGORIES:Event
END:VEVENT
BEGIN:VEVENT
DTSTART;TZID=America/New_York:20221205T120000
DTEND;TZID=America/New_York:20221205T170000
DTSTAMP:20260424T140709
CREATED:20221118T194533Z
LAST-MODIFIED:20221118T195912Z
UID:1575-1670241600-1670259600@afgelocal1988.com
SUMMARY:AFGE L-1988 Inquiry discussion
DESCRIPTION:Geddes Scott is inviting you to a scheduled Zoom meeting. \n  \nTopic: AFGE L-1988 Inquiry discussion \nTime:  Dec 5\, 2022 12:00 PM Eastern Time (US and Canada) \n  \nPlease download and import the following iCalendar (.ics) files to your calendar system. \nWeekly: https://us05web.zoom.us/meeting/tZIlfu-orDoqG9B88JQJjtcpyXq65Emv8h3V/ics?icsToken=98tyKuGupjIsGtaUsBiDRpwAGor4M_Tzpn5fjfp_xEfPMgpZdgDmL9pTZOdaHc6I \n  \nJoin Zoom Meeting \nhttps://us05web.zoom.us/j/86896021014?pwd=ZE1QVzIveVk1bDNqU2NLY1lqVXJ5QT09 \n  \nMeeting ID: 868 9602 1014 \nPasscode: 1dj7UE \n 
URL:https://afgelocal1988.com/event/afge-l-1988-inquiry-discussion-6/
LOCATION:ABC\, USA\, NEW YORK\, CA\, United States
CATEGORIES:Event
END:VEVENT
BEGIN:VEVENT
DTSTART;TZID=America/New_York:20221128T120000
DTEND;TZID=America/New_York:20221128T170000
DTSTAMP:20260424T140709
CREATED:20221118T141531Z
LAST-MODIFIED:20221118T200444Z
UID:1572-1669636800-1669654800@afgelocal1988.com
SUMMARY:AFGE L-1988 Inquiry discussion
DESCRIPTION:Geddes Scott is inviting you to a scheduled Zoom meeting. \n  \nTopic: AFGE L-1988 Inquiry discussion \nTime:  Nov 28\, 2022 12:00 PM Eastern Time (US and Canada) \n  \nPlease download and import the following iCalendar (.ics) files to your calendar system. \nWeekly: https://us05web.zoom.us/meeting/tZIlfu-orDoqG9B88JQJjtcpyXq65Emv8h3V/ics?icsToken=98tyKuGupjIsGtaUsBiDRpwAGor4M_Tzpn5fjfp_xEfPMgpZdgDmL9pTZOdaHc6I \n  \nJoin Zoom Meeting \nhttps://us05web.zoom.us/j/86896021014?pwd=ZE1QVzIveVk1bDNqU2NLY1lqVXJ5QT09 \n  \nMeeting ID: 868 9602 1014 \nPasscode: 1dj7UE
URL:https://afgelocal1988.com/event/afge-l-1988-inquiry-discussion-3/
LOCATION:ABC\, USA\, NEW YORK\, CA\, United States
CATEGORIES:Event
END:VEVENT
BEGIN:VEVENT
DTSTART;TZID=America/New_York:20221121T120000
DTEND;TZID=America/New_York:20221121T170000
DTSTAMP:20260424T140709
CREATED:20221118T141321Z
LAST-MODIFIED:20221118T200348Z
UID:1568-1669032000-1669050000@afgelocal1988.com
SUMMARY:AFGE L-1988 Inquiry discussion
DESCRIPTION:Geddes Scott is inviting you to a scheduled Zoom meeting. \n  \nTopic: AFGE L-1988 Inquiry discussion \nTime:  Nov 21\, 2022 12:00 PM Eastern Time (US and Canada) \n  \nPlease download and import the following iCalendar (.ics) files to your calendar system. \nWeekly: https://us05web.zoom.us/meeting/tZIlfu-orDoqG9B88JQJjtcpyXq65Emv8h3V/ics?icsToken=98tyKuGupjIsGtaUsBiDRpwAGor4M_Tzpn5fjfp_xEfPMgpZdgDmL9pTZOdaHc6I \n  \nJoin Zoom Meeting \nhttps://us05web.zoom.us/j/86896021014?pwd=ZE1QVzIveVk1bDNqU2NLY1lqVXJ5QT09 \n  \nMeeting ID: 868 9602 1014 \nPasscode: 1dj7UE
URL:https://afgelocal1988.com/event/afge-l-1988-inquiry-discussion-2/
LOCATION:ABC\, USA\, NEW YORK\, CA\, United States
CATEGORIES:Event
END:VEVENT
BEGIN:VEVENT
DTSTART;TZID=America/New_York:20221117T163000
DTEND;TZID=America/New_York:20221117T233000
DTSTAMP:20260424T140709
CREATED:20221115T191611Z
LAST-MODIFIED:20221118T200255Z
UID:1560-1668702600-1668727800@afgelocal1988.com
SUMMARY:AFGE Local 1988 Monthly Meeting
DESCRIPTION:Topic: AFGE Local 1988 Monthly Meeting \nTime: Nov 17\, 2022 04:30 PM Eastern Time (US and Canada) \n  \nJoin Zoom Meeting \nhttps://us05web.zoom.us/j/8278209794?pwd=cTZhNXJUdUh5OWkrZmlrbkpqODU0Zz09 \n  \nMeeting ID: 827 820 9794 \nPasscode: J8akbk
URL:https://afgelocal1988.com/event/test/
LOCATION:ABC\, USA\, NEW YORK\, CA\, United States
CATEGORIES:Event
END:VEVENT
END:VCALENDAR